BEGIN:VCALENDAR
VERSION:2.0
PRODID:-//I Love Laborie - ECPv6.15.20//NONSGML v1.0//EN
CALSCALE:GREGORIAN
METHOD:PUBLISH
X-WR-CALNAME:I Love Laborie
X-ORIGINAL-URL:https://ilovelaborie.org
X-WR-CALDESC:Events for I Love Laborie
REFRESH-INTERVAL;VALUE=DURATION:PT1H
X-Robots-Tag:noindex
X-PUBLISHED-TTL:PT1H
BEGIN:VTIMEZONE
TZID:America/St_Lucia
BEGIN:STANDARD
TZOFFSETFROM:-0400
TZOFFSETTO:-0400
TZNAME:AST
DTSTART:20250101T000000
END:STANDARD
END:VTIMEZONE
BEGIN:VEVENT
DTSTART;TZID=America/St_Lucia:20260422T163000
DTEND;TZID=America/St_Lucia:20260422T183000
DTSTAMP:20260424T111639
CREATED:20260421T164018Z
LAST-MODIFIED:20260421T165920Z
UID:2535-1776875400-1776882600@ilovelaborie.org
SUMMARY:Soliel Kouche
DESCRIPTION:Join on Earth Day for Soliel Kouche. \nTheme: Our Power\, Our Planet \nCome for an evening of Community\, clean energy stories\, family fun and local food. \nOpen to everyone
URL:https://ilovelaborie.org/event/soliel-kouche/
LOCATION:Morne Le Blanc\, Morne Le Blanc\, Laborie Village\, Laborie\, Saint Lucia
ATTACH;FMTTYPE=image/avif:https://ilovelaborie.org/wp-content/uploads/2026/04/d52158fb-2e59-46d0-ac85-199b4ec50bca.avif
END:VEVENT
END:VCALENDAR